BEGIN:VCALENDAR
VERSION:2.0
PRODID:-//A3H Hawaii Fun - ECPv6.15.11//NONSGML v1.0//EN
CALSCALE:GREGORIAN
METHOD:PUBLISH
X-ORIGINAL-URL:https://test.hawaiifun.org
X-WR-CALDESC:Events for A3H Hawaii Fun
REFRESH-INTERVAL;VALUE=DURATION:PT1H
X-Robots-Tag:noindex
X-PUBLISHED-TTL:PT1H
BEGIN:VTIMEZONE
TZID:Pacific/Honolulu
BEGIN:STANDARD
TZOFFSETFROM:-1000
TZOFFSETTO:-1000
TZNAME:HST
DTSTART:20240101T000000
END:STANDARD
END:VTIMEZONE
BEGIN:VEVENT
DTSTART;TZID=Pacific/Honolulu:20251219T150000
DTEND;TZID=Pacific/Honolulu:20251219T160000
DTSTAMP:20260419T063154
CREATED:20251006T135905Z
LAST-MODIFIED:20251007T163717Z
UID:10004573-1766156400-1766160000@test.hawaiifun.org
SUMMARY:Ukulele Lessons at The Shops
DESCRIPTION:Learn how to play the ukulele\, an integral part of the Hawaiian culture. New and experienced ukulele players of all ages are welcome to strum\, sing and play. First come\, first served.
URL:https://test.hawaiifun.org/event/ukulele-lessons-at-the-shops/2025-12-19/
LOCATION:The Shops at Wailea\, 3750 Wailea Alanui Dr Wailea\, Kula\, HI\, 96753\, United States
CATEGORIES:Maui
ATTACH;FMTTYPE=image/jpeg:https://test.hawaiifun.org/wp-content/uploads/2025/10/ukulelelessons-1.jpg
END:VEVENT
BEGIN:VEVENT
DTSTART;TZID=Pacific/Honolulu:20251218T173000
DTEND;TZID=Pacific/Honolulu:20251218T183000
DTSTAMP:20260419T063154
CREATED:20251006T131922Z
LAST-MODIFIED:20251006T135728Z
UID:10002804-1766079000-1766082600@test.hawaiifun.org
SUMMARY:Polynesian Show
DESCRIPTION:This performance will showcase the graceful Hawaiian hula as well as other beautiful dances of Polynesia.
URL:https://test.hawaiifun.org/event/polynesian-show/2025-12-18/
LOCATION:The Shops at Wailea\, 3750 Wailea Alanui Dr Wailea\, Kula\, HI\, 96753\, United States
CATEGORIES:Maui
ATTACH;FMTTYPE=image/jpeg:https://test.hawaiifun.org/wp-content/uploads/2025/10/77138909_3470177466333200_50783195091697664_n_VB_Logo-copy.jpg
END:VEVENT
BEGIN:VEVENT
DTSTART;TZID=Pacific/Honolulu:20251217T133000
DTEND;TZID=Pacific/Honolulu:20251217T143000
DTSTAMP:20260419T063154
CREATED:20251007T163643Z
LAST-MODIFIED:20251007T163643Z
UID:10004312-1765978200-1765981800@test.hawaiifun.org
SUMMARY:Lei Po'o Making at The Shops
DESCRIPTION:Learn how to weave a basic Ti leaf lei using flowers and ferns which can be worn on the head or around your neck. Learn how the lei expresses love and was gifted on very special occasions by the Hawaiian Ali’i (royalty). Lei making is open to both keiki (children) and adults. First come\, first served.
URL:https://test.hawaiifun.org/event/lei-poo-making-at-the-shops-2-2/2025-12-17/
LOCATION:The Shops at Wailea\, 3750 Wailea Alanui Dr Wailea\, Kula\, HI\, 96753\, United States
CATEGORIES:Maui
ATTACH;FMTTYPE=image/jpeg:https://test.hawaiifun.org/wp-content/uploads/2025/10/leipoomaking-1.jpg
END:VEVENT
BEGIN:VEVENT
DTSTART;TZID=Pacific/Honolulu:20251216T173000
DTEND;TZID=Pacific/Honolulu:20251216T183000
DTSTAMP:20260419T063154
CREATED:20251006T131922Z
LAST-MODIFIED:20251006T135728Z
UID:10002541-1765906200-1765909800@test.hawaiifun.org
SUMMARY:Polynesian Show
DESCRIPTION:This performance will showcase the graceful Hawaiian hula as well as other beautiful dances of Polynesia.
URL:https://test.hawaiifun.org/event/polynesian-show/2025-12-16/
LOCATION:The Shops at Wailea\, 3750 Wailea Alanui Dr Wailea\, Kula\, HI\, 96753\, United States
CATEGORIES:Maui
ATTACH;FMTTYPE=image/jpeg:https://test.hawaiifun.org/wp-content/uploads/2025/10/77138909_3470177466333200_50783195091697664_n_VB_Logo-copy.jpg
END:VEVENT
BEGIN:VEVENT
DTSTART;TZID=Pacific/Honolulu:20251216T160000
DTEND;TZID=Pacific/Honolulu:20251216T190000
DTSTAMP:20260419T063154
CREATED:20251006T131324Z
LAST-MODIFIED:20251006T131324Z
UID:10002018-1765900800-1765911600@test.hawaiifun.org
SUMMARY:Island Wood Carvings at The Shops
DESCRIPTION:Join us for a traditional island wood carving demonstration every Tuesday. Experience an art form with stories deeply rooted in Polynesian traditions.
URL:https://test.hawaiifun.org/event/island-wood-carvings-at-the-shops/2025-12-16/
LOCATION:The Shops at Wailea\, 3750 Wailea Alanui Dr Wailea\, Kula\, HI\, 96753\, United States
CATEGORIES:Maui
ATTACH;FMTTYPE=image/jpeg:https://test.hawaiifun.org/wp-content/uploads/2025/10/woodcarving.jpg
END:VEVENT
BEGIN:VEVENT
DTSTART;TZID=Pacific/Honolulu:20251215T173000
DTEND;TZID=Pacific/Honolulu:20251215T183000
DTSTAMP:20260419T063154
CREATED:20251006T123027Z
LAST-MODIFIED:20251006T135841Z
UID:10001496-1765819800-1765823400@test.hawaiifun.org
SUMMARY:Ukulele Lessons at The Shops
DESCRIPTION:Learn how to play the ukulele\, an integral part of the Hawaiian culture. New and experienced ukulele players of all ages are welcome to strum\, sing and play. First come\, first served.
URL:https://test.hawaiifun.org/event/lei-poo-making-at-the-shops/2025-12-15/
LOCATION:The Shops at Wailea\, 3750 Wailea Alanui Dr Wailea\, Kula\, HI\, 96753\, United States
CATEGORIES:Maui
ATTACH;FMTTYPE=image/jpeg:https://test.hawaiifun.org/wp-content/uploads/2025/10/ukulelelessons-1.jpg
END:VEVENT
BEGIN:VEVENT
DTSTART;TZID=Pacific/Honolulu:20251212T160000
DTEND;TZID=Pacific/Honolulu:20251212T170000
DTSTAMP:20260419T063154
CREATED:20251006T140241Z
LAST-MODIFIED:20251007T162705Z
UID:10004051-1765555200-1765558800@test.hawaiifun.org
SUMMARY:Papa Hula at The Shops
DESCRIPTION:A definite must-do. Discover the art of the Hawaiian hula while having a good time with this complimentary dance workshop. Lessons include an overview of the accompanying music and instruments\, the costume and accessories\, the dance movements and their meaning. Fun for all ages\, Papa Hula is a celebration of the Hawaiian way of life.
URL:https://test.hawaiifun.org/event/papa-hula-at-the-shops/2025-12-12/
LOCATION:The Shops at Wailea\, 3750 Wailea Alanui Dr Wailea\, Kula\, HI\, 96753\, United States
CATEGORIES:Maui
ATTACH;FMTTYPE=image/jpeg:https://test.hawaiifun.org/wp-content/uploads/2025/10/papahula.jpg
END:VEVENT
BEGIN:VEVENT
DTSTART;TZID=Pacific/Honolulu:20251212T150000
DTEND;TZID=Pacific/Honolulu:20251212T160000
DTSTAMP:20260419T063154
CREATED:20251006T135905Z
LAST-MODIFIED:20251007T163717Z
UID:10004572-1765551600-1765555200@test.hawaiifun.org
SUMMARY:Ukulele Lessons at The Shops
DESCRIPTION:Learn how to play the ukulele\, an integral part of the Hawaiian culture. New and experienced ukulele players of all ages are welcome to strum\, sing and play. First come\, first served.
URL:https://test.hawaiifun.org/event/ukulele-lessons-at-the-shops/2025-12-12/
LOCATION:The Shops at Wailea\, 3750 Wailea Alanui Dr Wailea\, Kula\, HI\, 96753\, United States
CATEGORIES:Maui
ATTACH;FMTTYPE=image/jpeg:https://test.hawaiifun.org/wp-content/uploads/2025/10/ukulelelessons-1.jpg
END:VEVENT
BEGIN:VEVENT
DTSTART;TZID=Pacific/Honolulu:20251211T173000
DTEND;TZID=Pacific/Honolulu:20251211T183000
DTSTAMP:20260419T063154
CREATED:20251006T131922Z
LAST-MODIFIED:20251006T135728Z
UID:10002803-1765474200-1765477800@test.hawaiifun.org
SUMMARY:Polynesian Show
DESCRIPTION:This performance will showcase the graceful Hawaiian hula as well as other beautiful dances of Polynesia.
URL:https://test.hawaiifun.org/event/polynesian-show/2025-12-11/
LOCATION:The Shops at Wailea\, 3750 Wailea Alanui Dr Wailea\, Kula\, HI\, 96753\, United States
CATEGORIES:Maui
ATTACH;FMTTYPE=image/jpeg:https://test.hawaiifun.org/wp-content/uploads/2025/10/77138909_3470177466333200_50783195091697664_n_VB_Logo-copy.jpg
END:VEVENT
BEGIN:VEVENT
DTSTART;TZID=Pacific/Honolulu:20251210T133000
DTEND;TZID=Pacific/Honolulu:20251210T143000
DTSTAMP:20260419T063154
CREATED:20251007T163643Z
LAST-MODIFIED:20251007T163643Z
UID:10004311-1765373400-1765377000@test.hawaiifun.org
SUMMARY:Lei Po'o Making at The Shops
DESCRIPTION:Learn how to weave a basic Ti leaf lei using flowers and ferns which can be worn on the head or around your neck. Learn how the lei expresses love and was gifted on very special occasions by the Hawaiian Ali’i (royalty). Lei making is open to both keiki (children) and adults. First come\, first served.
URL:https://test.hawaiifun.org/event/lei-poo-making-at-the-shops-2-2/2025-12-10/
LOCATION:The Shops at Wailea\, 3750 Wailea Alanui Dr Wailea\, Kula\, HI\, 96753\, United States
CATEGORIES:Maui
ATTACH;FMTTYPE=image/jpeg:https://test.hawaiifun.org/wp-content/uploads/2025/10/leipoomaking-1.jpg
END:VEVENT
BEGIN:VEVENT
DTSTART;TZID=Pacific/Honolulu:20251209T173000
DTEND;TZID=Pacific/Honolulu:20251209T183000
DTSTAMP:20260419T063154
CREATED:20251006T131922Z
LAST-MODIFIED:20251006T135728Z
UID:10002540-1765301400-1765305000@test.hawaiifun.org
SUMMARY:Polynesian Show
DESCRIPTION:This performance will showcase the graceful Hawaiian hula as well as other beautiful dances of Polynesia.
URL:https://test.hawaiifun.org/event/polynesian-show/2025-12-09/
LOCATION:The Shops at Wailea\, 3750 Wailea Alanui Dr Wailea\, Kula\, HI\, 96753\, United States
CATEGORIES:Maui
ATTACH;FMTTYPE=image/jpeg:https://test.hawaiifun.org/wp-content/uploads/2025/10/77138909_3470177466333200_50783195091697664_n_VB_Logo-copy.jpg
END:VEVENT
BEGIN:VEVENT
DTSTART;TZID=Pacific/Honolulu:20251209T160000
DTEND;TZID=Pacific/Honolulu:20251209T190000
DTSTAMP:20260419T063154
CREATED:20251006T131324Z
LAST-MODIFIED:20251006T131324Z
UID:10002017-1765296000-1765306800@test.hawaiifun.org
SUMMARY:Island Wood Carvings at The Shops
DESCRIPTION:Join us for a traditional island wood carving demonstration every Tuesday. Experience an art form with stories deeply rooted in Polynesian traditions.
URL:https://test.hawaiifun.org/event/island-wood-carvings-at-the-shops/2025-12-09/
LOCATION:The Shops at Wailea\, 3750 Wailea Alanui Dr Wailea\, Kula\, HI\, 96753\, United States
CATEGORIES:Maui
ATTACH;FMTTYPE=image/jpeg:https://test.hawaiifun.org/wp-content/uploads/2025/10/woodcarving.jpg
END:VEVENT
BEGIN:VEVENT
DTSTART;TZID=Pacific/Honolulu:20251208T173000
DTEND;TZID=Pacific/Honolulu:20251208T183000
DTSTAMP:20260419T063154
CREATED:20251006T123027Z
LAST-MODIFIED:20251006T135841Z
UID:10001495-1765215000-1765218600@test.hawaiifun.org
SUMMARY:Ukulele Lessons at The Shops
DESCRIPTION:Learn how to play the ukulele\, an integral part of the Hawaiian culture. New and experienced ukulele players of all ages are welcome to strum\, sing and play. First come\, first served.
URL:https://test.hawaiifun.org/event/lei-poo-making-at-the-shops/2025-12-08/
LOCATION:The Shops at Wailea\, 3750 Wailea Alanui Dr Wailea\, Kula\, HI\, 96753\, United States
CATEGORIES:Maui
ATTACH;FMTTYPE=image/jpeg:https://test.hawaiifun.org/wp-content/uploads/2025/10/ukulelelessons-1.jpg
END:VEVENT
BEGIN:VEVENT
DTSTART;TZID=Pacific/Honolulu:20251205T160000
DTEND;TZID=Pacific/Honolulu:20251205T170000
DTSTAMP:20260419T063154
CREATED:20251006T140241Z
LAST-MODIFIED:20251007T162705Z
UID:10004050-1764950400-1764954000@test.hawaiifun.org
SUMMARY:Papa Hula at The Shops
DESCRIPTION:A definite must-do. Discover the art of the Hawaiian hula while having a good time with this complimentary dance workshop. Lessons include an overview of the accompanying music and instruments\, the costume and accessories\, the dance movements and their meaning. Fun for all ages\, Papa Hula is a celebration of the Hawaiian way of life.
URL:https://test.hawaiifun.org/event/papa-hula-at-the-shops/2025-12-05/
LOCATION:The Shops at Wailea\, 3750 Wailea Alanui Dr Wailea\, Kula\, HI\, 96753\, United States
CATEGORIES:Maui
ATTACH;FMTTYPE=image/jpeg:https://test.hawaiifun.org/wp-content/uploads/2025/10/papahula.jpg
END:VEVENT
BEGIN:VEVENT
DTSTART;TZID=Pacific/Honolulu:20251205T150000
DTEND;TZID=Pacific/Honolulu:20251205T160000
DTSTAMP:20260419T063154
CREATED:20251006T135905Z
LAST-MODIFIED:20251007T163717Z
UID:10004571-1764946800-1764950400@test.hawaiifun.org
SUMMARY:Ukulele Lessons at The Shops
DESCRIPTION:Learn how to play the ukulele\, an integral part of the Hawaiian culture. New and experienced ukulele players of all ages are welcome to strum\, sing and play. First come\, first served.
URL:https://test.hawaiifun.org/event/ukulele-lessons-at-the-shops/2025-12-05/
LOCATION:The Shops at Wailea\, 3750 Wailea Alanui Dr Wailea\, Kula\, HI\, 96753\, United States
CATEGORIES:Maui
ATTACH;FMTTYPE=image/jpeg:https://test.hawaiifun.org/wp-content/uploads/2025/10/ukulelelessons-1.jpg
END:VEVENT
BEGIN:VEVENT
DTSTART;TZID=Pacific/Honolulu:20251204T173000
DTEND;TZID=Pacific/Honolulu:20251204T183000
DTSTAMP:20260419T063154
CREATED:20251006T131922Z
LAST-MODIFIED:20251006T135728Z
UID:10002802-1764869400-1764873000@test.hawaiifun.org
SUMMARY:Polynesian Show
DESCRIPTION:This performance will showcase the graceful Hawaiian hula as well as other beautiful dances of Polynesia.
URL:https://test.hawaiifun.org/event/polynesian-show/2025-12-04/
LOCATION:The Shops at Wailea\, 3750 Wailea Alanui Dr Wailea\, Kula\, HI\, 96753\, United States
CATEGORIES:Maui
ATTACH;FMTTYPE=image/jpeg:https://test.hawaiifun.org/wp-content/uploads/2025/10/77138909_3470177466333200_50783195091697664_n_VB_Logo-copy.jpg
END:VEVENT
BEGIN:VEVENT
DTSTART;TZID=Pacific/Honolulu:20251203T133000
DTEND;TZID=Pacific/Honolulu:20251203T143000
DTSTAMP:20260419T063154
CREATED:20251007T163643Z
LAST-MODIFIED:20251007T163643Z
UID:10004310-1764768600-1764772200@test.hawaiifun.org
SUMMARY:Lei Po'o Making at The Shops
DESCRIPTION:Learn how to weave a basic Ti leaf lei using flowers and ferns which can be worn on the head or around your neck. Learn how the lei expresses love and was gifted on very special occasions by the Hawaiian Ali’i (royalty). Lei making is open to both keiki (children) and adults. First come\, first served.
URL:https://test.hawaiifun.org/event/lei-poo-making-at-the-shops-2-2/2025-12-03/
LOCATION:The Shops at Wailea\, 3750 Wailea Alanui Dr Wailea\, Kula\, HI\, 96753\, United States
CATEGORIES:Maui
ATTACH;FMTTYPE=image/jpeg:https://test.hawaiifun.org/wp-content/uploads/2025/10/leipoomaking-1.jpg
END:VEVENT
BEGIN:VEVENT
DTSTART;TZID=Pacific/Honolulu:20251202T173000
DTEND;TZID=Pacific/Honolulu:20251202T183000
DTSTAMP:20260419T063154
CREATED:20251006T131922Z
LAST-MODIFIED:20251006T135728Z
UID:10002539-1764696600-1764700200@test.hawaiifun.org
SUMMARY:Polynesian Show
DESCRIPTION:This performance will showcase the graceful Hawaiian hula as well as other beautiful dances of Polynesia.
URL:https://test.hawaiifun.org/event/polynesian-show/2025-12-02/
LOCATION:The Shops at Wailea\, 3750 Wailea Alanui Dr Wailea\, Kula\, HI\, 96753\, United States
CATEGORIES:Maui
ATTACH;FMTTYPE=image/jpeg:https://test.hawaiifun.org/wp-content/uploads/2025/10/77138909_3470177466333200_50783195091697664_n_VB_Logo-copy.jpg
END:VEVENT
BEGIN:VEVENT
DTSTART;TZID=Pacific/Honolulu:20251202T160000
DTEND;TZID=Pacific/Honolulu:20251202T190000
DTSTAMP:20260419T063154
CREATED:20251006T131324Z
LAST-MODIFIED:20251006T131324Z
UID:10002016-1764691200-1764702000@test.hawaiifun.org
SUMMARY:Island Wood Carvings at The Shops
DESCRIPTION:Join us for a traditional island wood carving demonstration every Tuesday. Experience an art form with stories deeply rooted in Polynesian traditions.
URL:https://test.hawaiifun.org/event/island-wood-carvings-at-the-shops/2025-12-02/
LOCATION:The Shops at Wailea\, 3750 Wailea Alanui Dr Wailea\, Kula\, HI\, 96753\, United States
CATEGORIES:Maui
ATTACH;FMTTYPE=image/jpeg:https://test.hawaiifun.org/wp-content/uploads/2025/10/woodcarving.jpg
END:VEVENT
BEGIN:VEVENT
DTSTART;TZID=Pacific/Honolulu:20251201T173000
DTEND;TZID=Pacific/Honolulu:20251201T183000
DTSTAMP:20260419T063154
CREATED:20251006T123027Z
LAST-MODIFIED:20251006T135841Z
UID:10001494-1764610200-1764613800@test.hawaiifun.org
SUMMARY:Ukulele Lessons at The Shops
DESCRIPTION:Learn how to play the ukulele\, an integral part of the Hawaiian culture. New and experienced ukulele players of all ages are welcome to strum\, sing and play. First come\, first served.
URL:https://test.hawaiifun.org/event/lei-poo-making-at-the-shops/2025-12-01/
LOCATION:The Shops at Wailea\, 3750 Wailea Alanui Dr Wailea\, Kula\, HI\, 96753\, United States
CATEGORIES:Maui
ATTACH;FMTTYPE=image/jpeg:https://test.hawaiifun.org/wp-content/uploads/2025/10/ukulelelessons-1.jpg
END:VEVENT
BEGIN:VEVENT
DTSTART;TZID=Pacific/Honolulu:20251128T160000
DTEND;TZID=Pacific/Honolulu:20251128T170000
DTSTAMP:20260419T063154
CREATED:20251006T140241Z
LAST-MODIFIED:20251007T162705Z
UID:10004049-1764345600-1764349200@test.hawaiifun.org
SUMMARY:Papa Hula at The Shops
DESCRIPTION:A definite must-do. Discover the art of the Hawaiian hula while having a good time with this complimentary dance workshop. Lessons include an overview of the accompanying music and instruments\, the costume and accessories\, the dance movements and their meaning. Fun for all ages\, Papa Hula is a celebration of the Hawaiian way of life.
URL:https://test.hawaiifun.org/event/papa-hula-at-the-shops/2025-11-28/
LOCATION:The Shops at Wailea\, 3750 Wailea Alanui Dr Wailea\, Kula\, HI\, 96753\, United States
CATEGORIES:Maui
ATTACH;FMTTYPE=image/jpeg:https://test.hawaiifun.org/wp-content/uploads/2025/10/papahula.jpg
END:VEVENT
BEGIN:VEVENT
DTSTART;TZID=Pacific/Honolulu:20251128T150000
DTEND;TZID=Pacific/Honolulu:20251128T160000
DTSTAMP:20260419T063154
CREATED:20251006T135905Z
LAST-MODIFIED:20251007T163717Z
UID:10004570-1764342000-1764345600@test.hawaiifun.org
SUMMARY:Ukulele Lessons at The Shops
DESCRIPTION:Learn how to play the ukulele\, an integral part of the Hawaiian culture. New and experienced ukulele players of all ages are welcome to strum\, sing and play. First come\, first served.
URL:https://test.hawaiifun.org/event/ukulele-lessons-at-the-shops/2025-11-28/
LOCATION:The Shops at Wailea\, 3750 Wailea Alanui Dr Wailea\, Kula\, HI\, 96753\, United States
CATEGORIES:Maui
ATTACH;FMTTYPE=image/jpeg:https://test.hawaiifun.org/wp-content/uploads/2025/10/ukulelelessons-1.jpg
END:VEVENT
BEGIN:VEVENT
DTSTART;TZID=Pacific/Honolulu:20251127T173000
DTEND;TZID=Pacific/Honolulu:20251127T183000
DTSTAMP:20260419T063154
CREATED:20251006T131922Z
LAST-MODIFIED:20251006T135728Z
UID:10002801-1764264600-1764268200@test.hawaiifun.org
SUMMARY:Polynesian Show
DESCRIPTION:This performance will showcase the graceful Hawaiian hula as well as other beautiful dances of Polynesia.
URL:https://test.hawaiifun.org/event/polynesian-show/2025-11-27/
LOCATION:The Shops at Wailea\, 3750 Wailea Alanui Dr Wailea\, Kula\, HI\, 96753\, United States
CATEGORIES:Maui
ATTACH;FMTTYPE=image/jpeg:https://test.hawaiifun.org/wp-content/uploads/2025/10/77138909_3470177466333200_50783195091697664_n_VB_Logo-copy.jpg
END:VEVENT
BEGIN:VEVENT
DTSTART;TZID=Pacific/Honolulu:20251126T133000
DTEND;TZID=Pacific/Honolulu:20251126T143000
DTSTAMP:20260419T063154
CREATED:20251007T163643Z
LAST-MODIFIED:20251007T163643Z
UID:10004309-1764163800-1764167400@test.hawaiifun.org
SUMMARY:Lei Po'o Making at The Shops
DESCRIPTION:Learn how to weave a basic Ti leaf lei using flowers and ferns which can be worn on the head or around your neck. Learn how the lei expresses love and was gifted on very special occasions by the Hawaiian Ali’i (royalty). Lei making is open to both keiki (children) and adults. First come\, first served.
URL:https://test.hawaiifun.org/event/lei-poo-making-at-the-shops-2-2/2025-11-26/
LOCATION:The Shops at Wailea\, 3750 Wailea Alanui Dr Wailea\, Kula\, HI\, 96753\, United States
CATEGORIES:Maui
ATTACH;FMTTYPE=image/jpeg:https://test.hawaiifun.org/wp-content/uploads/2025/10/leipoomaking-1.jpg
END:VEVENT
BEGIN:VEVENT
DTSTART;TZID=Pacific/Honolulu:20251125T173000
DTEND;TZID=Pacific/Honolulu:20251125T183000
DTSTAMP:20260419T063154
CREATED:20251006T131922Z
LAST-MODIFIED:20251006T135728Z
UID:10002538-1764091800-1764095400@test.hawaiifun.org
SUMMARY:Polynesian Show
DESCRIPTION:This performance will showcase the graceful Hawaiian hula as well as other beautiful dances of Polynesia.
URL:https://test.hawaiifun.org/event/polynesian-show/2025-11-25/
LOCATION:The Shops at Wailea\, 3750 Wailea Alanui Dr Wailea\, Kula\, HI\, 96753\, United States
CATEGORIES:Maui
ATTACH;FMTTYPE=image/jpeg:https://test.hawaiifun.org/wp-content/uploads/2025/10/77138909_3470177466333200_50783195091697664_n_VB_Logo-copy.jpg
END:VEVENT
BEGIN:VEVENT
DTSTART;TZID=Pacific/Honolulu:20251125T160000
DTEND;TZID=Pacific/Honolulu:20251125T190000
DTSTAMP:20260419T063154
CREATED:20251006T131324Z
LAST-MODIFIED:20251006T131324Z
UID:10002015-1764086400-1764097200@test.hawaiifun.org
SUMMARY:Island Wood Carvings at The Shops
DESCRIPTION:Join us for a traditional island wood carving demonstration every Tuesday. Experience an art form with stories deeply rooted in Polynesian traditions.
URL:https://test.hawaiifun.org/event/island-wood-carvings-at-the-shops/2025-11-25/
LOCATION:The Shops at Wailea\, 3750 Wailea Alanui Dr Wailea\, Kula\, HI\, 96753\, United States
CATEGORIES:Maui
ATTACH;FMTTYPE=image/jpeg:https://test.hawaiifun.org/wp-content/uploads/2025/10/woodcarving.jpg
END:VEVENT
BEGIN:VEVENT
DTSTART;TZID=Pacific/Honolulu:20251124T173000
DTEND;TZID=Pacific/Honolulu:20251124T183000
DTSTAMP:20260419T063154
CREATED:20251006T123027Z
LAST-MODIFIED:20251006T135841Z
UID:10001493-1764005400-1764009000@test.hawaiifun.org
SUMMARY:Ukulele Lessons at The Shops
DESCRIPTION:Learn how to play the ukulele\, an integral part of the Hawaiian culture. New and experienced ukulele players of all ages are welcome to strum\, sing and play. First come\, first served.
URL:https://test.hawaiifun.org/event/lei-poo-making-at-the-shops/2025-11-24/
LOCATION:The Shops at Wailea\, 3750 Wailea Alanui Dr Wailea\, Kula\, HI\, 96753\, United States
CATEGORIES:Maui
ATTACH;FMTTYPE=image/jpeg:https://test.hawaiifun.org/wp-content/uploads/2025/10/ukulelelessons-1.jpg
END:VEVENT
BEGIN:VEVENT
DTSTART;TZID=Pacific/Honolulu:20251121T160000
DTEND;TZID=Pacific/Honolulu:20251121T170000
DTSTAMP:20260419T063154
CREATED:20251006T140241Z
LAST-MODIFIED:20251007T162705Z
UID:10004048-1763740800-1763744400@test.hawaiifun.org
SUMMARY:Papa Hula at The Shops
DESCRIPTION:A definite must-do. Discover the art of the Hawaiian hula while having a good time with this complimentary dance workshop. Lessons include an overview of the accompanying music and instruments\, the costume and accessories\, the dance movements and their meaning. Fun for all ages\, Papa Hula is a celebration of the Hawaiian way of life.
URL:https://test.hawaiifun.org/event/papa-hula-at-the-shops/2025-11-21/
LOCATION:The Shops at Wailea\, 3750 Wailea Alanui Dr Wailea\, Kula\, HI\, 96753\, United States
CATEGORIES:Maui
ATTACH;FMTTYPE=image/jpeg:https://test.hawaiifun.org/wp-content/uploads/2025/10/papahula.jpg
END:VEVENT
BEGIN:VEVENT
DTSTART;TZID=Pacific/Honolulu:20251121T150000
DTEND;TZID=Pacific/Honolulu:20251121T160000
DTSTAMP:20260419T063154
CREATED:20251006T135905Z
LAST-MODIFIED:20251007T163717Z
UID:10004569-1763737200-1763740800@test.hawaiifun.org
SUMMARY:Ukulele Lessons at The Shops
DESCRIPTION:Learn how to play the ukulele\, an integral part of the Hawaiian culture. New and experienced ukulele players of all ages are welcome to strum\, sing and play. First come\, first served.
URL:https://test.hawaiifun.org/event/ukulele-lessons-at-the-shops/2025-11-21/
LOCATION:The Shops at Wailea\, 3750 Wailea Alanui Dr Wailea\, Kula\, HI\, 96753\, United States
CATEGORIES:Maui
ATTACH;FMTTYPE=image/jpeg:https://test.hawaiifun.org/wp-content/uploads/2025/10/ukulelelessons-1.jpg
END:VEVENT
BEGIN:VEVENT
DTSTART;TZID=Pacific/Honolulu:20251120T173000
DTEND;TZID=Pacific/Honolulu:20251120T183000
DTSTAMP:20260419T063154
CREATED:20251006T131922Z
LAST-MODIFIED:20251006T135728Z
UID:10002800-1763659800-1763663400@test.hawaiifun.org
SUMMARY:Polynesian Show
DESCRIPTION:This performance will showcase the graceful Hawaiian hula as well as other beautiful dances of Polynesia.
URL:https://test.hawaiifun.org/event/polynesian-show/2025-11-20/
LOCATION:The Shops at Wailea\, 3750 Wailea Alanui Dr Wailea\, Kula\, HI\, 96753\, United States
CATEGORIES:Maui
ATTACH;FMTTYPE=image/jpeg:https://test.hawaiifun.org/wp-content/uploads/2025/10/77138909_3470177466333200_50783195091697664_n_VB_Logo-copy.jpg
END:VEVENT
END:VCALENDAR